BEGIN:VCALENDAR
VERSION:2.0
PRODID:-//Triangle Modern Quilt Guild - ECPv6.15.20//NONSGML v1.0//EN
CALSCALE:GREGORIAN
METHOD:PUBLISH
X-WR-CALNAME:Triangle Modern Quilt Guild
X-ORIGINAL-URL:https://trianglemqg.org
X-WR-CALDESC:Events for Triangle Modern Quilt Guild
REFRESH-INTERVAL;VALUE=DURATION:PT1H
X-Robots-Tag:noindex
X-PUBLISHED-TTL:PT1H
BEGIN:VTIMEZONE
TZID:America/New_York
BEGIN:DAYLIGHT
TZOFFSETFROM:-0500
TZOFFSETTO:-0400
TZNAME:EDT
DTSTART:20240310T070000
END:DAYLIGHT
BEGIN:STANDARD
TZOFFSETFROM:-0400
TZOFFSETTO:-0500
TZNAME:EST
DTSTART:20241103T060000
END:STANDARD
BEGIN:DAYLIGHT
TZOFFSETFROM:-0500
TZOFFSETTO:-0400
TZNAME:EDT
DTSTART:20250309T070000
END:DAYLIGHT
BEGIN:STANDARD
TZOFFSETFROM:-0400
TZOFFSETTO:-0500
TZNAME:EST
DTSTART:20251102T060000
END:STANDARD
BEGIN:DAYLIGHT
TZOFFSETFROM:-0500
TZOFFSETTO:-0400
TZNAME:EDT
DTSTART:20260308T070000
END:DAYLIGHT
BEGIN:STANDARD
TZOFFSETFROM:-0400
TZOFFSETTO:-0500
TZNAME:EST
DTSTART:20261101T060000
END:STANDARD
BEGIN:DAYLIGHT
TZOFFSETFROM:-0500
TZOFFSETTO:-0400
TZNAME:EDT
DTSTART:20270314T070000
END:DAYLIGHT
BEGIN:STANDARD
TZOFFSETFROM:-0400
TZOFFSETTO:-0500
TZNAME:EST
DTSTART:20271107T060000
END:STANDARD
END:VTIMEZONE
BEGIN:VEVENT
DTSTART;TZID=America/New_York:20260412T150000
DTEND;TZID=America/New_York:20260412T170000
DTSTAMP:20260423T064939
CREATED:20251208T151535Z
LAST-MODIFIED:20251208T151535Z
UID:5050-1776006000-1776013200@trianglemqg.org
SUMMARY:April Guild Meeting
DESCRIPTION:Guild meeting from 3-5 at the Brier Creek Community Center\, 10810 Globe Road\, Morrisville. \nMore information on meeting agenda can be found here.
URL:https://trianglemqg.org/events/april-guild-meeting-3/
END:VEVENT
BEGIN:VEVENT
DTSTART;TZID=America/New_York:20260404T140000
DTEND;TZID=America/New_York:20260404T160000
DTSTAMP:20260423T064939
CREATED:20251204T202256Z
LAST-MODIFIED:20260316T222434Z
UID:5013-1775311200-1775318400@trianglemqg.org
SUMMARY:April Sew Social - SATURDAY\, April 4
DESCRIPTION:Join us  from 2-4 pm at the Wegmans in Wake Forest (11051 Ligon Mill Rd\, Wake Forest) \nNOTE – The April Social is on SATURDAY this month.
URL:https://trianglemqg.org/events/april-sew-social-3/
END:VEVENT
BEGIN:VEVENT
DTSTART;TZID=America/New_York:20260326T193000
DTEND;TZID=America/New_York:20260326T201500
DTSTAMP:20260423T064939
CREATED:20260320T125453Z
LAST-MODIFIED:20260320T125453Z
UID:6042-1774553400-1774556100@trianglemqg.org
SUMMARY:Singularity Sew-Along Hangout
DESCRIPTION:If you have joined the Singularity Sew-Along you will receive an email with the Zoom Link \nThis year\, we will be hanging out on Zoom on the fourth Thursday of the month from 7:30pm to 8:15pm from March through September to share tips\, progress and ideas for our quilts. Each month we will assign tasks to help you complete the quilt.\n\nWe will be making the Singularity Quilt by Jenn Nevitt\, which is available as a FREE download from the Modern Quilt Guild’s library. \nMore information on the sew along here!
URL:https://trianglemqg.org/events/singularity-sew-along-hangout/
END:VEVENT
BEGIN:VEVENT
DTSTART;TZID=America/New_York:20260308T150000
DTEND;TZID=America/New_York:20260308T170000
DTSTAMP:20260423T064939
CREATED:20251208T151455Z
LAST-MODIFIED:20251208T151455Z
UID:5048-1772982000-1772989200@trianglemqg.org
SUMMARY:March Guild Meeting
DESCRIPTION:Guild meeting from 3-5 at the Brier Creek Community Center\, 10810 Globe Road\, Morrisville. \nMore information on meeting agenda can be found here.
URL:https://trianglemqg.org/events/march-guild-meeting/
END:VEVENT
BEGIN:VEVENT
DTSTART;TZID=America/New_York:20260301T140000
DTEND;TZID=America/New_York:20260301T160000
DTSTAMP:20260423T064939
CREATED:20251204T202207Z
LAST-MODIFIED:20251204T202207Z
UID:5011-1772373600-1772380800@trianglemqg.org
SUMMARY:March Sew Social
DESCRIPTION:Join us from 2-4 pm at the Wegmans in Chapel Hill (1810 Fordham Blvd\, Chapel Hill).
URL:https://trianglemqg.org/events/march-sew-social-3/
END:VEVENT
BEGIN:VEVENT
DTSTART;TZID=America/New_York:20260208T150000
DTEND;TZID=America/New_York:20260208T170000
DTSTAMP:20260423T064939
CREATED:20251208T151413Z
LAST-MODIFIED:20251208T151413Z
UID:5046-1770562800-1770570000@trianglemqg.org
SUMMARY:February Guild Meeting
DESCRIPTION:Guild meeting from 3-5 at the Brier Creek Community Center\, 10810 Globe Road\, Morrisville. \nMore information on meeting agenda can be found here.
URL:https://trianglemqg.org/events/february-guild-meeting-2/
END:VEVENT
BEGIN:VEVENT
DTSTART;TZID=America/New_York:20260201T140000
DTEND;TZID=America/New_York:20260201T160000
DTSTAMP:20260423T064939
CREATED:20251204T202111Z
LAST-MODIFIED:20251208T151034Z
UID:5009-1769954400-1769961600@trianglemqg.org
SUMMARY:February Sew Social
DESCRIPTION:Join us from 2-4 pm at the Wegmans in Raleigh (1200 Wake Towne Drive\, Raleigh)
URL:https://trianglemqg.org/events/february-sew-social-3/
END:VEVENT
BEGIN:VEVENT
DTSTART;TZID=America/New_York:20260111T150000
DTEND;TZID=America/New_York:20260111T170000
DTSTAMP:20260423T064939
CREATED:20251117T145600Z
LAST-MODIFIED:20251208T151334Z
UID:4933-1768143600-1768150800@trianglemqg.org
SUMMARY:January Guild Meeting
DESCRIPTION:Guild meeting from 3-5 at the Brier Creek Community Center\, 10810 Globe Road\, Morrisville. \nMore information on meeting agenda can be found here. \n 
URL:https://trianglemqg.org/events/january-guild-meeting-2/
END:VEVENT
BEGIN:VEVENT
DTSTART;TZID=America/New_York:20260104T140000
DTEND;TZID=America/New_York:20260104T160000
DTSTAMP:20260423T064939
CREATED:20251117T145531Z
LAST-MODIFIED:20251204T201945Z
UID:4931-1767535200-1767542400@trianglemqg.org
SUMMARY:January Sew Social
DESCRIPTION:Join us from 2-4 pm at the Wegmans in Morrisville (3710 Davis Drive\, Morrisville)
URL:https://trianglemqg.org/events/january-sew-social-3/
END:VEVENT
BEGIN:VEVENT
DTSTART;TZID=America/New_York:20251207T140000
DTEND;TZID=America/New_York:20251207T160000
DTSTAMP:20260423T064939
CREATED:20241212T221704Z
LAST-MODIFIED:20241212T221704Z
UID:2498-1765116000-1765123200@trianglemqg.org
SUMMARY:December Sew Social
DESCRIPTION:Join fellow guild members at our Sew Social on Sunday\, December 7  from 2-4 pm at the Wegmans in Wake Forest (11051 Ligon Mill Rd\, Wake Forest). Bring along some handwork and visit with fellow guild members . We’ll be sitting outside if weather permits.
URL:https://trianglemqg.org/events/december-sew-social-3/
LOCATION:Wegman’s Wake Forest\, 11051 Ligon Mill Rd\, Wake Forest\, NC\, 27587\, United States
END:VEVENT
BEGIN:VEVENT
DTSTART;TZID=America/New_York:20251109T150000
DTEND;TZID=America/New_York:20251109T170000
DTSTAMP:20260423T064939
CREATED:20241212T223617Z
LAST-MODIFIED:20241212T223617Z
UID:2529-1762700400-1762707600@trianglemqg.org
SUMMARY:November Guild Meeting
DESCRIPTION:Join us Sunday\, November 9 from 3-5 pm at the Brier Creek Community Center! (The community center is located at 10810 Globe Rd\, Morrisville.) Program information is not  yet available
URL:https://trianglemqg.org/events/november-guild-meeting-2/
LOCATION:Brier Creek Community Center\, 10810 Globe Rd\, Morrisville\, NC\, 27560\, United States
END:VEVENT
BEGIN:VEVENT
DTSTART;TZID=America/New_York:20251102T140000
DTEND;TZID=America/New_York:20251102T160000
DTSTAMP:20260423T064939
CREATED:20241212T221601Z
LAST-MODIFIED:20241212T221601Z
UID:2496-1762092000-1762099200@trianglemqg.org
SUMMARY:November Sew Social
DESCRIPTION:Join fellow guild members at our Sew Social on Sunday\, November 2 from 2-4 pm at the Wegmans in Chapel Hill (1810 Fordham Blvd\, Chapel Hill). Bring along some handwork and visit with fellow guild members . We’ll be sitting outside if weather permits.Join fellow guild members at our Sew Social on Sunday\, November 2 from 2-4 pm at the Wegmans in Chapel Hill (1810 Fordham Blvd\, Chapel Hill). Bring along some handwork and visit with fellow guild members . We’ll be sitting outside if weather permits.
URL:https://trianglemqg.org/events/november-sew-social-2/
LOCATION:Wegmans Chapel Hill\, 1810 Fordham Blvd\, Chapel Hill\, NC\, 27514\, United States
END:VEVENT
BEGIN:VEVENT
DTSTART;TZID=America/New_York:20251019T100000
DTEND;TZID=America/New_York:20251019T160000
DTSTAMP:20260423T064939
CREATED:20250817T143818Z
LAST-MODIFIED:20250817T143818Z
UID:4330-1760868000-1760889600@trianglemqg.org
SUMMARY:All About Angles workshop with Sarah Goer
DESCRIPTION:Read more about the All About Angles Workshop  \nRegister for a workshop seat \n 
URL:https://trianglemqg.org/events/all-about-angles-workshop-with-sarah-goer/
END:VEVENT
BEGIN:VEVENT
DTSTART;TZID=America/New_York:20251018T130000
DTEND;TZID=America/New_York:20251018T160000
DTSTAMP:20260423T064939
CREATED:20250124T161250Z
LAST-MODIFIED:20250124T161250Z
UID:2894-1760792400-1760803200@trianglemqg.org
SUMMARY:Community Giving Sew Day
DESCRIPTION:October 18\, 1 – 4 pm \nJoin fellow guild members to assemble blocks and quilt tops for our Community Giving initiative. There are spots for only 15 members and sign-up is required. (Signup sheet is sent via email 2-3 weeks before event.) We will be meeting at Cary Quilting from 1 – 4 pm.
URL:https://trianglemqg.org/events/community-giving-sew-day-4/
LOCATION:Cary Quilting\, 935 N Harrison Ave\, Cary\, NC\, 27513\, United States
ORGANIZER;CN="Triangle Modern Quilt Guild":MAILTO:hello@trianglemqg.org
END:VEVENT
BEGIN:VEVENT
DTSTART;TZID=America/New_York:20251012T150000
DTEND;TZID=America/New_York:20251012T170000
DTSTAMP:20260423T064939
CREATED:20241212T223448Z
LAST-MODIFIED:20241212T223448Z
UID:2526-1760281200-1760288400@trianglemqg.org
SUMMARY:October Guild Meeting
DESCRIPTION:Join us Sunday\, October 12 from 3-5 pm at the Brier Creek Community Center! (The community center is located at 10810 Globe Rd\, Morrisville.) Program information is not  yet available.
URL:https://trianglemqg.org/events/october-guild-meeting-2/
LOCATION:Brier Creek Community Center\, 10810 Globe Rd\, Morrisville\, NC\, 27560\, United States
END:VEVENT
BEGIN:VEVENT
DTSTART;TZID=America/New_York:20251005T140000
DTEND;TZID=America/New_York:20251005T160000
DTSTAMP:20260423T064939
CREATED:20241212T221433Z
LAST-MODIFIED:20241212T221433Z
UID:2493-1759672800-1759680000@trianglemqg.org
SUMMARY:October Sew Social
DESCRIPTION:Join fellow guild members at our Sew Social on Sunday\, October 5 from 2-4 pm at the Wegmans in Raleigh (1200 Wake Towne Drive\, Raleigh). Bring along some handwork and visit with fellow guild members . We’ll be sitting outside if weather permits.
URL:https://trianglemqg.org/events/october-sew-social-2/
LOCATION:Wegmans Raleigh\, 1200 Wake Towne Dr\, Raleigh\, NC\, 27609\, United States
END:VEVENT
BEGIN:VEVENT
DTSTART;TZID=America/New_York:20250914T150000
DTEND;TZID=America/New_York:20250914T170000
DTSTAMP:20260423T064939
CREATED:20241212T222848Z
LAST-MODIFIED:20250905T192748Z
UID:2523-1757862000-1757869200@trianglemqg.org
SUMMARY:September Guild Meeting
DESCRIPTION:Join us Sunday\, September 14 from 3-5 pm at the Brier Creek Community Center! (The community center is located at 10810 Globe Rd\, Morrisville.) Our program is titled Exploring QuiltCon Categories.
URL:https://trianglemqg.org/events/september-guild-meeting-2/
LOCATION:Brier Creek Community Center\, 10810 Globe Rd\, Morrisville\, NC\, 27560\, United States
END:VEVENT
BEGIN:VEVENT
DTSTART;TZID=America/New_York:20250907T140000
DTEND;TZID=America/New_York:20250907T160000
DTSTAMP:20260423T064939
CREATED:20241212T221326Z
LAST-MODIFIED:20241212T221326Z
UID:2490-1757253600-1757260800@trianglemqg.org
SUMMARY:September Sew Social
DESCRIPTION:Join fellow guild members at our Sew Social on Sunday\, September 7 from 2-4 pm at the Wegmans in Morrisville (3710 Davis Drive\, Morrisville). Bring along some handwork and visit with fellow guild members . We’ll be sitting outside if weather permits.
URL:https://trianglemqg.org/events/september-sew-social-2/
LOCATION:Wegman’s Morrisville\, 3710 Davis Drive\, Morrisville\, NC\, 27560\, United States
END:VEVENT
BEGIN:VEVENT
DTSTART;TZID=America/New_York:20250810T150000
DTEND;TZID=America/New_York:20250810T170000
DTSTAMP:20260423T064939
CREATED:20241212T222753Z
LAST-MODIFIED:20250712T142844Z
UID:2520-1754838000-1754845200@trianglemqg.org
SUMMARY:August Guild Meeting
DESCRIPTION:Join us Sunday\, August 10 from 3-5 pm at the Brier Creek Community Center! (The community center is located at 10810 Globe Rd\, Morrisville.) Our program is titled Finish What You Started and is all about tackling your WIPs from fellow guild member Emma Jane Powell.
URL:https://trianglemqg.org/events/august-guild-meeting-2/
LOCATION:Brier Creek Community Center\, 10810 Globe Rd\, Morrisville\, NC\, 27560\, United States
END:VEVENT
BEGIN:VEVENT
DTSTART;TZID=America/New_York:20250803T140000
DTEND;TZID=America/New_York:20250803T160000
DTSTAMP:20260423T064939
CREATED:20241212T221224Z
LAST-MODIFIED:20241212T221224Z
UID:2487-1754229600-1754236800@trianglemqg.org
SUMMARY:August Sew Social
DESCRIPTION:Join fellow guild members at our Sew Social on Sunday\, August 3 from 2-4 pm at the Wegmans in Wake Forest (11051 Ligon Mill Rd\, Wake Forest). Bring along some handwork and visit with fellow guild members . We’ll be sitting outside if weather permits.
URL:https://trianglemqg.org/events/august-sew-social-2/
LOCATION:Wegman’s Wake Forest\, 11051 Ligon Mill Rd\, Wake Forest\, NC\, 27587\, United States
END:VEVENT
BEGIN:VEVENT
DTSTART;TZID=America/New_York:20250713T150000
DTEND;TZID=America/New_York:20250713T170000
DTSTAMP:20260423T064939
CREATED:20241212T222650Z
LAST-MODIFIED:20250712T142729Z
UID:2517-1752418800-1752426000@trianglemqg.org
SUMMARY:July Guild Meeting
DESCRIPTION:Join us Sunday\, July 13 from 3-5 pm at the Brier Creek Community Center! (The community center is located at 10810 Globe Rd\, Morrisville.) Today’s program is a guild sew-in – bring your machines or handwork and sit and visit with fellow guild members while you sew.
URL:https://trianglemqg.org/events/july-guild-meeting-2/
LOCATION:Brier Creek Community Center\, 10810 Globe Rd\, Morrisville\, NC\, 27560\, United States
END:VEVENT
BEGIN:VEVENT
DTSTART;TZID=America/New_York:20250712T130000
DTEND;TZID=America/New_York:20250712T160000
DTSTAMP:20260423T064939
CREATED:20250124T161128Z
LAST-MODIFIED:20250124T161128Z
UID:2891-1752325200-1752336000@trianglemqg.org
SUMMARY:Community Giving Sew Day
DESCRIPTION:July 12\, 1 – 4 pm \nJoin fellow guild members to assemble blocks and quilt tops for our Community Giving initiative. There are spots for only 15 members and sign-up is required. (Signup sheet is sent via email 2-3 weeks before event.) We will be meeting at Cary Quilting from 1 – 4 pm.
URL:https://trianglemqg.org/events/community-giving-sew-day-3/
LOCATION:Cary Quilting\, 935 N Harrison Ave\, Cary\, NC\, 27513\, United States
ORGANIZER;CN="Triangle Modern Quilt Guild":MAILTO:hello@trianglemqg.org
END:VEVENT
BEGIN:VEVENT
DTSTART;TZID=America/New_York:20250706T140000
DTEND;TZID=America/New_York:20250706T160000
DTSTAMP:20260423T064939
CREATED:20241212T221110Z
LAST-MODIFIED:20241212T221110Z
UID:2484-1751810400-1751817600@trianglemqg.org
SUMMARY:July Sew Social
DESCRIPTION:Join fellow guild members at our Sew Social on Sunday\, July 6 from 2-4 pm at the Wegmans in Chapel Hill (1810 Fordham Blvd\, Chapel Hill). Bring along some handwork and visit with fellow guild members . We’ll be sitting outside if weather permits.
URL:https://trianglemqg.org/events/july-sew-social-2/
LOCATION:Wegmans Chapel Hill\, 1810 Fordham Blvd\, Chapel Hill\, NC\, 27514\, United States
END:VEVENT
BEGIN:VEVENT
DTSTART;TZID=America/New_York:20250608T150000
DTEND;TZID=America/New_York:20250608T170000
DTSTAMP:20260423T064939
CREATED:20241212T222555Z
LAST-MODIFIED:20241212T222555Z
UID:2514-1749394800-1749402000@trianglemqg.org
SUMMARY:June Guild Meeting
DESCRIPTION:Join us Sunday\, June 8 from 3-5 pm at the Brier Creek Community Center! (The community center is located at 10810 Globe Rd\, Morrisville.) Program information is not  yet available.
URL:https://trianglemqg.org/events/june-guild-meeting-2/
LOCATION:Brier Creek Community Center\, 10810 Globe Rd\, Morrisville\, NC\, 27560\, United States
END:VEVENT
BEGIN:VEVENT
DTSTART;TZID=America/New_York:20250601T140000
DTEND;TZID=America/New_York:20250601T160000
DTSTAMP:20260423T064939
CREATED:20241212T221000Z
LAST-MODIFIED:20241212T221000Z
UID:2481-1748786400-1748793600@trianglemqg.org
SUMMARY:June Sew Social
DESCRIPTION:Join fellow guild members at our Sew Social on Sunday\, June 1 from 2-4 pm at the Wegmans in  Raleigh (1200 Wake Towne Drive\, Raleigh). Bring along some handwork and visit with fellow guild members . We’ll be sitting outside if weather permits.
URL:https://trianglemqg.org/events/june-sew-social-2/
LOCATION:Wegmans Raleigh\, 1200 Wake Towne Dr\, Raleigh\, NC\, 27609\, United States
END:VEVENT
BEGIN:VEVENT
DTSTART;TZID=America/New_York:20250525T100000
DTEND;TZID=America/New_York:20250525T160000
DTSTAMP:20260423T064939
CREATED:20250417T180435Z
LAST-MODIFIED:20250417T180435Z
UID:3561-1748167200-1748188800@trianglemqg.org
SUMMARY:Freestyle Patchwork Workshop with Sarah Hibbert
DESCRIPTION:Registration opens for members on April 19. Fee is $70 for members.
URL:https://trianglemqg.org/events/freestyle-patchwork-workshop-with-sarah-hibbert/
END:VEVENT
BEGIN:VEVENT
DTSTART;TZID=America/New_York:20250524T153000
DTEND;TZID=America/New_York:20250524T170000
DTSTAMP:20260423T064939
CREATED:20250417T180310Z
LAST-MODIFIED:20250417T180507Z
UID:3559-1748100600-1748106000@trianglemqg.org
SUMMARY:Sarah Hibbert Lecture & Trunk Show
DESCRIPTION:Member registration opens April 19. Seats are $15.
URL:https://trianglemqg.org/events/sarah-hibbert-lecture-trunk-show/
END:VEVENT
BEGIN:VEVENT
DTSTART;TZID=America/New_York:20250511T150000
DTEND;TZID=America/New_York:20250511T170000
DTSTAMP:20260423T064939
CREATED:20241212T222459Z
LAST-MODIFIED:20241212T222459Z
UID:2511-1746975600-1746982800@trianglemqg.org
SUMMARY:May Guild Meeting
DESCRIPTION:Join us Sunday\, May 11 from 3-5 pm at the Brier Creek Community Center! (The community center is located at 10810 Globe Rd\, Morrisville.) Program information is not  yet available.
URL:https://trianglemqg.org/events/may-guild-meeting-3/
LOCATION:Brier Creek Community Center\, 10810 Globe Rd\, Morrisville\, NC\, 27560\, United States
END:VEVENT
BEGIN:VEVENT
DTSTART;TZID=America/New_York:20250504T140000
DTEND;TZID=America/New_York:20250504T160000
DTSTAMP:20260423T064939
CREATED:20241212T220845Z
LAST-MODIFIED:20241212T220845Z
UID:2478-1746367200-1746374400@trianglemqg.org
SUMMARY:May Sew Social
DESCRIPTION:Join fellow guild members at our Sew Social on Sunday\, May 4 from 2-4 pm at the Wegmans in Morrisville (3710 Davis Drive\, Morrisvile)\, Bring along some handwork and visit with fellow guild members . We’ll be sitting outside if weather permits
URL:https://trianglemqg.org/events/may-sew-social/
LOCATION:Wegman’s Morrisville\, 3710 Davis Drive\, Morrisville\, NC\, 27560\, United States
END:VEVENT
BEGIN:VEVENT
DTSTART;TZID=America/New_York:20250425T120000
DTEND;TZID=America/New_York:20250427T160000
DTSTAMP:20260423T064939
CREATED:20250310T220145Z
LAST-MODIFIED:20250310T220145Z
UID:3269-1745582400-1745769600@trianglemqg.org
SUMMARY:Triangle MQG Retreat
DESCRIPTION:We are excited to announce the Triangle MQG biennial retreat will be held Friday\, April 25–Sunday\, April 27\, 2025 at the Bernina World of Sewing studio\, Raleigh. \nRegistration opens for guild members on Sunday\, March 16 at 10 am.
URL:https://trianglemqg.org/events/triangle-mqg-retreat/
CATEGORIES:Retreat
END:VEVENT
END:VCALENDAR